BEGIN:VCALENDAR
VERSION:2.0
PRODID:-//eventon.com NONSGML v1.0//EN
BEGIN:VEVENT
UID:69e88ede9e08c
DTSTAMP:20260422T100326
DTSTART:20210514T180000Z
DTEND:20210514T200000Z
LOCATION:
SUMMARY:Charity Fairs (14 MAY)
DESCRIPTION: Organise One or a Few Virtual Charity Fairs We are planning to organise four virtual charity fairs on 02\,  16\,  30 April; and 14 May 2021 in order to give an opportunity to Iranian and Persian-speaking not-for-profit or cultural organisations to showcase their work\,  share experiences and work towards closer[..]
END:VEVENT
END:VCALENDAR